BEGIN:VCALENDAR
VERSION:2.0
PRODID:-//Tukios.com/
BEGIN:VEVENT
UID:2866d7e1-c3ab-478e-a787-5e63c757c033@www.garciamortuary.com
DTSTAMP:20260425T013806Z
DTSTART:20260430T150000Z
DTEND:20260430T160000Z
SUMMARY:Mass
DESCRIPTION:Burial following mass.
URL:https://www.garciamortuary.com/obituaries/joe-chavez
LOCATION:St. Anne's Church 1400 Arenal Road Southwest  Albuquerque NM 
	87105
GEO:35.051945;-106.6756328
END:VEVENT
END:VCALENDAR