BEGIN:VCALENDAR
VERSION:2.0
PRODID:-//Tukios.com/
BEGIN:VEVENT
UID:8cf22033-a7b8-40bf-a8f2-bb6f3adc5128@www.garciamortuary.com
DTSTAMP:20260425T013316Z
DTSTART:20260430T141500Z
DTEND:20260430T150000Z
SUMMARY:Rosary
DESCRIPTION:
URL:https://www.garciamortuary.com/obituaries/joe-chavez
LOCATION: 1400 Arenal Rd SW  Albuquerque NM 87105
GEO:35.0513318;-106.675365
END:VEVENT
END:VCALENDAR