BEGIN:VCALENDAR
VERSION:2.0
PRODID:-//Tukios.com/
BEGIN:VEVENT
UID:abd24f9d-e677-4a02-94c5-9bbee1bd5a27@www.garciamortuary.com
DTSTAMP:20260425T014103Z
DTSTART:20260430T140000Z
DTEND:20260430T141500Z
SUMMARY:Visitation
DESCRIPTION:
URL:https://www.garciamortuary.com/obituaries/joe-chavez
LOCATION:St. Anne’s Church 1400 Arenal Road Southwest  Albuquerque NM 
	87105
GEO:35.051945;-106.6756328
END:VEVENT
END:VCALENDAR