BEGIN:VCALENDAR
VERSION:2.0
PRODID:-//Tukios.com/
BEGIN:VEVENT
UID:919d14b2-7b02-491b-8911-44cd2531d19c@www.garciamortuary.com
DTSTAMP:20260424T015743Z
DTSTART:20260429T170000Z
DTEND:20260429T180000Z
SUMMARY:Interment
DESCRIPTION:
URL:https://www.garciamortuary.com/obituaries/helen-lopez
LOCATION: 1900 Edith Blvd NE  Albuquerque NM 87102
GEO:35.1018254;-106.6357618
END:VEVENT
END:VCALENDAR