BEGIN:VCALENDAR
VERSION:2.0
PRODID:-//Tukios.com/
BEGIN:VEVENT
UID:6823386e-6b73-4b20-b05d-9967ff96eedf@www.garciamortuary.com
DTSTAMP:20260424T020238Z
DTSTART:20260429T160000Z
DTEND:20260429T170000Z
SUMMARY:Mass
DESCRIPTION:
URL:https://www.garciamortuary.com/obituaries/helen-lopez
LOCATION: 2105 Barcelona Rd  Albuquerque NM 87105
GEO:35.0309457;-106.6901292
END:VEVENT
END:VCALENDAR