BEGIN:VCALENDAR
VERSION:2.0
PRODID:-//Tukios.com/
BEGIN:VEVENT
UID:aa152fd5-8e8f-4a5f-af7c-343100ca4240@www.garciamortuary.com
DTSTAMP:20260424T020100Z
DTSTART:20260429T153000Z
DTEND:20260429T160000Z
SUMMARY:Rosary
DESCRIPTION:
URL:https://www.garciamortuary.com/obituaries/helen-lopez
LOCATION: 2105 Barcelona Rd  Albuquerque NM 87105
GEO:35.0309457;-106.6901292
END:VEVENT
END:VCALENDAR